{"text_format":"3","workbook":"xlsx","n_sheets":1,"sheets":["1"],"not_rendered":{"external_links":1},"read":"whole","date_system":"1900"}

{"sheet":"1","index":0,"n_rows":20,"n_cols":12,"rows_kept":20,"merged":[[1,2,1,4],[1,7,1,10],[2,7,2,10]]}
[]
["Школа",null," МБОУ СОШ д.Таваканово",null,null,"Утвердил:","должность"," директор школы"]
["Типовое примерное меню приготавливаемых блюд",{"$nulls":5},"фамилия"," Каразбаев Я.В."]
["Возрастная категория",{"$nulls":3},"7-11 лет",null,"дата",10,6,2024]
[{"$nulls":7},"день","месяц","год"]
["Неделя","День недели","Прием пищи","Раздел меню","Блюда","Вес блюда, г","Белки","Жиры","Углеводы","Калорийность","№ рецептуры","Цена"]
[2,10,"Завтрак","хлеб",{"$f":"'[1]10.05.2024'!B219","v":"Хлеб пшеничный обогащенный витаминами, № 1.5 сб. 2021"},{"$f":"'[1]10.05.2024'!C219","v":"60"},{"$f":"'[1]10.05.2024'!D219","v":4.74},{"$f":"'[1]10.05.2024'!E219","v":0},{"$f":"'[1]10.05.2024'!F219","v":0.6},{"$f":"'[1]10.05.2024'!G219","v":0},"188"]
[{"$nulls":3},"сыр",{"$f":"'[1]10.05.2024'!B220","v":"Сыр (порциями), № 1.4 сб. 2021"},{"$f":"'[1]10.05.2024'!C220","v":"15"},{"$f":"'[1]10.05.2024'!D220","v":3.95},{"$f":"'[1]10.05.2024'!E220","v":3.95},{"$f":"'[1]10.05.2024'!F220","v":3.99},{"$f":"'[1]10.05.2024'!G220","v":0}]
[{"$nulls":3},"гор блюдо",{"$f":"'[1]10.05.2024'!B221","v":"Каша пшеничная молочная жидкая №209, сб. 2021"},{"$f":"'[1]10.05.2024'!C221","v":"200"},{"$f":"'[1]10.05.2024'!D221","v":7.13},{"$f":"'[1]10.05.2024'!E221","v":2.79},{"$f":"'[1]10.05.2024'!F221","v":10.03},{"$f":"'[1]10.05.2024'!G221","v":0},"300"]
[{"$nulls":3},"гор напиток",{"$f":"'[1]10.05.2024'!B222","v":"Чай с сахаром №300, сб. 2021"},{"$f":"'[1]10.05.2024'!C222","v":"200"},{"$f":"'[1]10.05.2024'!D222","v":0.08},{"$f":"'[1]10.05.2024'!E222","v":0},{"$f":"'[1]10.05.2024'!F222","v":0.02},{"$f":"'[1]10.05.2024'!G222","v":0.02},"1.3"]
[{"$nulls":3},"фрукты",{"$f":"'[1]10.05.2024'!B223","v":"Фрукты свежие"},{"$f":"'[1]10.05.2024'!C223","v":"100"},{"$f":"'[1]10.05.2024'!D223","v":0.4},{"$f":"'[1]10.05.2024'!E223","v":0},{"$f":"'[1]10.05.2024'!F223","v":0.4},{"$f":"'[1]10.05.2024'!G223","v":0.4},"ТТК"]
[{"$nulls":3},"итого",{"$f":"'[1]10.05.2024'!B224","v":"Итого за 'Завтрак'"},{"$f":"'[1]10.05.2024'!C224","v":0},{"$f":"'[1]10.05.2024'!D224","v":16.29},{"$f":"'[1]10.05.2024'!E224","v":6.74},{"$f":"'[1]10.05.2024'!F224","v":15.04},{"$f":"'[1]10.05.2024'!G224","v":0.42},null,75.11]
[{"$f":"A7","v":2},{"$f":"B7","v":10},"Обед","1 блюдо",{"$f":"'[1]10.05.2024'!B227","v":"Суп из овощей  №69, сб.2021"},{"$f":"'[1]10.05.2024'!C227","v":"250"},{"$f":"'[1]10.05.2024'!D227","v":1.86},{"$f":"'[1]10.05.2024'!E227","v":0.02},{"$f":"'[1]10.05.2024'!F227","v":3.49},{"$f":"'[1]10.05.2024'!G227","v":0},"ТТК"]
[{"$nulls":3},"закуска","Помидор порц. свежий","100","1,08","0","0,2","0,3","ТТК"]
[{"$nulls":3},"2 блюдо",{"$f":"'[1]10.05.2024'!B228","v":"Плов из курицы №138, сб.2021"},{"$f":"'[1]10.05.2024'!C228","v":"230"},{"$f":"'[1]10.05.2024'!D228","v":20.98},{"$f":"'[1]10.05.2024'!E228","v":18.08},{"$f":"'[1]10.05.2024'!F228","v":26.68},{"$f":"'[1]10.05.2024'!G228","v":0},"56"]
[{"$nulls":3},"напиток",{"$f":"'[1]10.05.2024'!B229","v":"Компот из смеси сухофруктов №268, сб.2011 г"},{"$f":"'[1]10.05.2024'!C229","v":"200"},{"$f":"'[1]10.05.2024'!D229","v":0.53},{"$f":"'[1]10.05.2024'!E229","v":0.17},{"$f":"'[1]10.05.2024'!F229","v":0.06},{"$f":"'[1]10.05.2024'!G229","v":0},"99"]
[{"$nulls":3},"хлеб бел.",{"$f":"'[1]10.05.2024'!B230","v":"Хлеб пшеничный обогащенный витаминами, № 1.5 сб. 2021"},{"$f":"'[1]10.05.2024'!C230","v":"25"},{"$f":"'[1]10.05.2024'!D230","v":1.98},{"$f":"'[1]10.05.2024'!E230","v":0},{"$f":"'[1]10.05.2024'!F230","v":0.25},{"$f":"'[1]10.05.2024'!G230","v":0},"227"]
[{"$nulls":3},"хлеб черн.",{"$f":"'[1]10.05.2024'!B231","v":"Хлеб ржано-пшеничный обогащенный витаминами"},{"$f":"'[1]10.05.2024'!C231","v":"40"},{"$f":"'[1]10.05.2024'!D231","v":2.64},{"$f":"'[1]10.05.2024'!E231","v":0},{"$f":"'[1]10.05.2024'!F231","v":0.48},{"$f":"'[1]10.05.2024'!G231","v":0},"310"]
[{"$nulls":3},"итого",null,null,{"$f":"'[1]10.05.2024'!D232","v":29.06},{"$f":"'[1]10.05.2024'!E232","v":18.28},{"$f":"'[1]10.05.2024'!F232","v":31.16},{"$f":"'[1]10.05.2024'!G232","v":0.2},null,150.33]
[{"$nulls":3},"итого за день",null,null,{"$f":"'[1]10.05.2024'!D233","v":45.35},{"$f":"'[1]10.05.2024'!E233","v":25.01},{"$f":"'[1]10.05.2024'!F233","v":46.2},{"$f":"'[1]10.05.2024'!G233","v":0.62}]